BEGIN:VCALENDAR
VERSION:2.0
PRODID:-//Leukaemia UK - ECPv6.15.17//NONSGML v1.0//EN
CALSCALE:GREGORIAN
METHOD:PUBLISH
X-WR-CALNAME:Leukaemia UK
X-ORIGINAL-URL:https://luk.adaptabledev.com
X-WR-CALDESC:Events for Leukaemia UK
REFRESH-INTERVAL;VALUE=DURATION:PT1H
X-Robots-Tag:noindex
X-PUBLISHED-TTL:PT1H
BEGIN:VTIMEZONE
TZID:Europe/London
BEGIN:DAYLIGHT
TZOFFSETFROM:+0000
TZOFFSETTO:+0100
TZNAME:BST
DTSTART:20250330T010000
END:DAYLIGHT
BEGIN:STANDARD
TZOFFSETFROM:+0100
TZOFFSETTO:+0000
TZNAME:GMT
DTSTART:20251026T010000
END:STANDARD
BEGIN:DAYLIGHT
TZOFFSETFROM:+0000
TZOFFSETTO:+0100
TZNAME:BST
DTSTART:20260329T010000
END:DAYLIGHT
BEGIN:STANDARD
TZOFFSETFROM:+0100
TZOFFSETTO:+0000
TZNAME:GMT
DTSTART:20261025T010000
END:STANDARD
BEGIN:DAYLIGHT
TZOFFSETFROM:+0000
TZOFFSETTO:+0100
TZNAME:BST
DTSTART:20270328T010000
END:DAYLIGHT
BEGIN:STANDARD
TZOFFSETFROM:+0100
TZOFFSETTO:+0000
TZNAME:GMT
DTSTART:20271031T010000
END:STANDARD
END:VTIMEZONE
BEGIN:VEVENT
DTSTART;VALUE=DATE:20260502
DTEND;VALUE=DATE:20260504
DTSTAMP:20260419T133623
CREATED:20220715T074810Z
LAST-MODIFIED:20250616T134859Z
UID:3434-1777680000-1777852799@luk.adaptabledev.com
SUMMARY:Isle of Wight Challenge: May 2026
DESCRIPTION:Great challenges need great settings – and few are better than the Island’s stunning coastal path. Up to 3\,000 adventurers will take on the Isle of Wight in April 2026 – with all out to push themselves further. It’s along the spectacular southern cliffs\, past the iconic Needles\, and up to historic Cowes at the half way stop. For Full Island challengers it’s on to historic Ventnor\, and back to our welcome base camp in Chale after an epic 106km journey. You’ll get full support & hospitality all the way\, and with half & quarter Island options also – there’s an Isle of Wight Challenge for everyone! \nEndurance events for a wide range of fitness & ages. Choose your Challenge – do it at your pace\, and there’re 14 events in the 2022 Series. Our support enables you to go further\, whilst enjoying the great outdoors & camaraderie. There’re marquee rest stops\, lots of food & drink\, medical & massage teams\, with a fully signed route to guide you. A big finish-line  celebration awaits with an amazing sense of achievement\, and once the aches subside you’ll feel energised\, and up for more of life’s real challenges. \nSponsorship: Different options available\, please see below: \n\n\n\n\n1. FULL SPONSORSHIP\n\n\n\n\nPay a small Reg Fee & Fundraise for a chosen Charity (who pay for your place) \n\n\n\n\n\n\nFULL CHALLENGE ~100km – £50 Reg Fee & at least – £575 fundraising/sponsorship\n\n\n\n\n3/4 CHALLENGE ~75km – £45 Reg Fee & at least – £475 fundraising/sponsorship\n\n\n\n\n1/2 CHALLENGE ~50km – £40 Reg Fee & at least – £375 fundraising/sponsorship\n\n\n\n\n1/4 CHALLENGE ~25km – £30 Reg Fee & at least – £275 fundraising/sponsorship\n\n\n\n\n\n\n\n\n2. MIXED FUNDING\n\n\n\n\nPay for half your place cost & fundraise less for Charity (who pay half of your place cost) \n\n\n\n\n\n\nFULL CHALLENGE ~100km – £110 Reg Fee & at least – £330 fundraising/sponsorship\n\n\n\n\n3/4 CHALLENGE ~75km – £90 Reg Fee & at least – £270 fundraising/sponsorship\n\n\n\n\n1/2 CHALLENGE ~50km – £75 Reg Fee & at least – £225 fundraising/sponsorship\n\n\n\n\n1/4 CHALLENGE ~25km – £50 Reg Fee & at least – £150 fundraising/sponsorship\n\n\n\n\n10 M CHALLENGE ~10 Mile – £22.50 Reg Fee & at least – £70 fundraising/sponsorship\n\n\n\n\n\n\n\n\n3. OWN PLACE FUNDRAISING\n\n\n\n\nPay for your place & fundraise whatever you can for a Charity (small admin fee to charity) \n\n\n\n\n\n\nFULL CHALLENGE ~100km – £199 Fee paid online & fundraise whatever you can\n\n\n\n\n3/4 CHALLENGE ~75km – £169 Fee paid online & fundraise whatever you can\n\n\n\n\n1/2 CHALLENGE ~50km – £139 Fee paid online & fundraise whatever you can\n\n\n\n\n1/4 CHALLENGE ~25km – £89 Fee paid online & fundraise whatever you can\n\n\n\n\n10 M CHALLENGE ~10 Mile – £39 Fee paid online & fundraise whatever you can\n\n\n\n\n\n\n\nWhat you’ll get from Leukaemia UK \n\nLeukaemia UK running vest\nChallenge pack\, including sponsorship forms and helpful training and fundraising advice\nDedicated support from our fantastic fundraising team\n\nInterested? Contact Hanna on fundraising@leukaemiauk.org.uk or sign up here \nCheck Out Our Other Fundraising Events
URL:https://luk.adaptabledev.com/event/isle-of-wight-challenge/
LOCATION:Isle of Wight\, United Kingdom
CATEGORIES:Walking
ATTACH;FMTTYPE=image/png:https://luk.adaptabledev.com/app/uploads/2022/07/getimage-41.png
END:VEVENT
END:VCALENDAR